BEGIN:VCALENDAR
VERSION:2.0
PRODID:-//Lietuva Anglija Lietuva - ECPv5.7.1//NONSGML v1.0//EN
CALSCALE:GREGORIAN
METHOD:PUBLISH
X-WR-CALNAME:Lietuva Anglija Lietuva
X-ORIGINAL-URL:https://vezuianglija.lt
X-WR-CALDESC:Lietuva Anglija Lietuva renginiai
BEGIN:VTIMEZONE
TZID:UTC
BEGIN:STANDARD
TZOFFSETFROM:+0000
TZOFFSETTO:+0000
TZNAME:UTC
DTSTART:20260101T000000
END:STANDARD
END:VTIMEZONE
BEGIN:VEVENT
DTSTART;VALUE=DATE:20260424
DTEND;VALUE=DATE:20260425
DTSTAMP:20260423T085028
CREATED:20170809T190858Z
LAST-MODIFIED:20260408T045754Z
UID:525-1776988800-1777075199@vezuianglija.lt
SUMMARY:Lietuva - Anglija
DESCRIPTION:Lietuva Anglija\n \n  \nSaugiai\, greitai ir atskingai nuo durų iki durų vežame keleivius\, siuntas\, gyvunūs maršrutų Lietuva Anglija\, kiekviena penktadieni. Mikroautobusai su visais patogumais.
URL:https://vezuianglija.lt/anglija/lietuva-anglija/
CATEGORIES:Lietuva Anglija
END:VEVENT
BEGIN:VEVENT
DTSTART;VALUE=DATE:20260426
DTEND;VALUE=DATE:20260427
DTSTAMP:20260423T085028
CREATED:20170810T055356Z
LAST-MODIFIED:20260408T045809Z
UID:535-1777161600-1777247999@vezuianglija.lt
SUMMARY:Anglija - Lietuva
DESCRIPTION:Anglija Lietuva\n \n  \nSaugiai\, greitai ir atskingai nuo durų iki durų vežame keleivius\, siuntas\, gyvunūs maršrutų Anglija – Lietuva\, kiekviena sekmadieni. Mikroautobusai su visais patogumais.
URL:https://vezuianglija.lt/anglija/anglija-lietuva/
CATEGORIES:Anglija Lietuva
END:VEVENT
BEGIN:VEVENT
DTSTART;VALUE=DATE:20260501
DTEND;VALUE=DATE:20260502
DTSTAMP:20260423T085028
CREATED:20170906T040735Z
LAST-MODIFIED:20260415T075525Z
UID:593-1777593600-1777679999@vezuianglija.lt
SUMMARY:Lietuva - Anglija
DESCRIPTION:Lietuva Anglija\n \n  \nSaugiai\, greitai ir atskingai nuo durų iki durų vežame keleivius\, siuntas\, gyvunūs maršrutų Lietuva Anglija\, kiekviena penktadieni. Mikroautobusai su visais patogumais.
URL:https://vezuianglija.lt/anglija/lietuva-anglija-siuntniai/
CATEGORIES:Lietuva Anglija
END:VEVENT
BEGIN:VEVENT
DTSTART;VALUE=DATE:20260503
DTEND;VALUE=DATE:20260504
DTSTAMP:20260423T085028
CREATED:20170906T041200Z
LAST-MODIFIED:20260415T075537Z
UID:599-1777766400-1777852799@vezuianglija.lt
SUMMARY:Anglija - Lietuva
DESCRIPTION:Anglija Lietuva\n \n  \nSaugiai\, greitai ir atskingai nuo durų iki durų vežame keleivius\, siuntas\, gyvunūs maršrutų Anglija – Lietuva\, kiekviena sekmadieni. Mikroautobusai su visais patogumais.
URL:https://vezuianglija.lt/anglija/anglija-lietuva-suntiniai/
CATEGORIES:Anglija Lietuva
END:VEVENT
END:VCALENDAR