BEGIN:VCALENDAR
VERSION:2.0
PRODID:-//Lietuva Anglija Lietuva - ECPv5.7.1//NONSGML v1.0//EN
CALSCALE:GREGORIAN
METHOD:PUBLISH
X-WR-CALNAME:Lietuva Anglija Lietuva
X-ORIGINAL-URL:https://vezuianglija.lt
X-WR-CALDESC:Lietuva Anglija Lietuva renginiai
BEGIN:VTIMEZONE
TZID:UTC
BEGIN:STANDARD
TZOFFSETFROM:+0000
TZOFFSETTO:+0000
TZNAME:UTC
DTSTART:20260101T000000
END:STANDARD
END:VTIMEZONE
BEGIN:VEVENT
DTSTART;VALUE=DATE:20260419
DTEND;VALUE=DATE:20260420
DTSTAMP:20260423T101144
CREATED:20170906T040934Z
LAST-MODIFIED:20260330T062830Z
UID:595-1776556800-1776643199@vezuianglija.lt
SUMMARY:Anglija - Lietuva
DESCRIPTION:Anglija Lietuva\n \n  \nSaugiai\, greitai ir atskingai nuo durų iki durų vežame keleivius\, siuntas\, gyvunūs maršrutų Anglija – Lietuva\, kiekviena sekmadieni. Mikroautobusai su visais patogumais.
URL:https://vezuianglija.lt/anglija/anglija-lietuva-keleiviai/
CATEGORIES:Anglija Lietuva
END:VEVENT
END:VCALENDAR