BEGIN:VCALENDAR
VERSION:2.0
PRODID:-//Lietuva Anglija Lietuva - ECPv5.7.1//NONSGML v1.0//EN
CALSCALE:GREGORIAN
METHOD:PUBLISH
X-WR-CALNAME:Lietuva Anglija Lietuva
X-ORIGINAL-URL:https://vezuianglija.lt
X-WR-CALDESC:Lietuva Anglija Lietuva renginiai
BEGIN:VTIMEZONE
TZID:UTC
BEGIN:STANDARD
TZOFFSETFROM:+0000
TZOFFSETTO:+0000
TZNAME:UTC
DTSTART:20260101T000000
END:STANDARD
END:VTIMEZONE
BEGIN:VEVENT
DTSTART;VALUE=DATE:20260417
DTEND;VALUE=DATE:20260418
DTSTAMP:20260423T114443
CREATED:20170906T040554Z
LAST-MODIFIED:20260330T062809Z
UID:591-1776384000-1776470399@vezuianglija.lt
SUMMARY:Lietuva - Anglija
DESCRIPTION:Lietuva Anglija\n \n  \nSaugiai\, greitai ir atskingai nuo durų iki durų vežame keleivius\, siuntas\, gyvunūs maršrutų Lietuva Anglija\, kiekviena penktadieni. Mikroautobusai su visais patogumais.
URL:https://vezuianglija.lt/anglija/lietuva-anglija-keleiviai/
CATEGORIES:Lietuva Anglija
END:VEVENT
END:VCALENDAR